BEGIN:VCALENDAR
VERSION:2.0
PRODID:icalendar-ruby
CALSCALE:GREGORIAN
BEGIN:VEVENT
DTSTAMP:20260422T154126Z
UID:f28a9c3d-cae4-4da2-80fc-e221e53e22b2
DTSTART:20260428T133000
DTEND:20260428T134500
CLASS:PRIVATE
DESCRIPTION:Auktionen Land Rover Defender 90 Special på Bidders Highway st
 änger!
SUMMARY:Land Rover Defender 90 Special
URL;VALUE=URI:https://www.biddershighway.com/sv/auctions/2015-land-rover-de
 fender-90-dwd353
BEGIN:VALARM
ACTION:DISPLAY
TRIGGER:-PT15M
SUMMARY:Auktionen Land Rover Defender 90 Special på Bidders Highway stäng
 er!
END:VALARM
END:VEVENT
END:VCALENDAR
