BEGIN:VCALENDAR
VERSION:2.0
PRODID:icalendar-ruby
CALSCALE:GREGORIAN
BEGIN:VEVENT
DTSTAMP:20260423T141707Z
UID:ae7f10a2-a4e1-4ad8-b475-4c3def402c9a
DTSTART:20260505T133000
DTEND:20260505T134500
CLASS:PRIVATE
DESCRIPTION:Auktionen Mercedes-Benz Clk 280 på Bidders Highway stänger!
SUMMARY:Mercedes-Benz Clk 280
URL;VALUE=URI:https://www.biddershighway.com/sv/auctions/2007-mercedes-benz
 -209-mercedes-benz-clk-280-rmu485
BEGIN:VALARM
ACTION:DISPLAY
TRIGGER:-PT15M
SUMMARY:Auktionen Mercedes-Benz Clk 280 på Bidders Highway stänger!
END:VALARM
END:VEVENT
END:VCALENDAR
