BEGIN:VCALENDAR
VERSION:2.0
PRODID:icalendar-ruby
CALSCALE:GREGORIAN
BEGIN:VEVENT
DTSTAMP:20260423T122702Z
UID:995ce840-aac5-476d-beb0-abbf0493c57c
DTSTART:20260503T133000
DTEND:20260503T134500
CLASS:PRIVATE
DESCRIPTION:Auktionen Volvo Amazon kombi på Bidders Highway stänger!
SUMMARY:Volvo Amazon kombi
URL;VALUE=URI:https://www.biddershighway.com/sv/auctions/1966-volvo-amazon-
 kombi-cmm188-1
BEGIN:VALARM
ACTION:DISPLAY
TRIGGER:-PT15M
SUMMARY:Auktionen Volvo Amazon kombi på Bidders Highway stänger!
END:VALARM
END:VEVENT
END:VCALENDAR
