BEGIN:VCALENDAR
VERSION:2.0
PRODID:icalendar-ruby
CALSCALE:GREGORIAN
BEGIN:VEVENT
DTSTAMP:20260424T100208Z
UID:b470fd00-67d8-4930-8578-b9565490124e
DTSTART:20260507T123000
DTEND:20260507T124500
CLASS:PRIVATE
DESCRIPTION:Auktionen Cadillac Coupe de Ville på Bidders Highway stänger!
SUMMARY:Cadillac Coupe de Ville
URL;VALUE=URI:https://www.biddershighway.com/sv/auctions/1958-cadillac-coup
 e-de-ville-npk129-3
BEGIN:VALARM
ACTION:DISPLAY
TRIGGER:-PT15M
SUMMARY:Auktionen Cadillac Coupe de Ville på Bidders Highway stänger!
END:VALARM
END:VEVENT
END:VCALENDAR
