BEGIN:VCALENDAR
VERSION:2.0
PRODID:icalendar-ruby
CALSCALE:GREGORIAN
BEGIN:VEVENT
DTSTAMP:20260424T100207Z
UID:7906f796-2f44-48ff-9820-c063ab5b3dc6
DTSTART:20260505T153000
DTEND:20260505T154500
CLASS:PRIVATE
DESCRIPTION:Auktionen Land Rover Series 1 Soft Top på Bidders Highway stä
 nger!
SUMMARY:Land Rover Series 1 Soft Top
URL;VALUE=URI:https://www.biddershighway.com/sv/auctions/1953-land-rover-se
 ries-1-soft-top-egb441
BEGIN:VALARM
ACTION:DISPLAY
TRIGGER:-PT15M
SUMMARY:Auktionen Land Rover Series 1 Soft Top på Bidders Highway stänger
 !
END:VALARM
END:VEVENT
END:VCALENDAR
