BEGIN:VCALENDAR
VERSION:2.0
PRODID:icalendar-ruby
CALSCALE:GREGORIAN
BEGIN:VEVENT
DTSTAMP:20260424T073816Z
UID:0593f2af-742a-4e53-a6d7-7a736869e986
DTSTART:20260510T143000
DTEND:20260510T144500
CLASS:PRIVATE
DESCRIPTION:Land Rover Defender 110 Tomb Raider on Bidders Highway closing 
 soon!
SUMMARY:Land Rover Defender 110 Tomb Raider
URL;VALUE=URI:https://www.biddershighway.com/en/auctions/2000-land-rover-de
 fender-110-tomb-raider-tpd029
BEGIN:VALARM
ACTION:DISPLAY
TRIGGER:-PT15M
SUMMARY:Land Rover Defender 110 Tomb Raider on Bidders Highway closing soon
 !
END:VALARM
END:VEVENT
END:VCALENDAR
