BEGIN:VCALENDAR
VERSION:2.0
PRODID:icalendar-ruby
CALSCALE:GREGORIAN
BEGIN:VEVENT
DTSTAMP:20260424T085240Z
UID:f46f48a8-0a92-408b-b4b5-33cfe4ba41e4
DTSTART:20260511T123000
DTEND:20260511T124500
CLASS:PRIVATE
DESCRIPTION:Jaguar XjS Cabriolet on Bidders Highway closing soon!
SUMMARY:Jaguar XjS Cabriolet
URL;VALUE=URI:https://www.biddershighway.com/en/auctions/1993-jaguar-xjs-ca
 briolet-wzw88y
BEGIN:VALARM
ACTION:DISPLAY
TRIGGER:-PT15M
SUMMARY:Jaguar XjS Cabriolet on Bidders Highway closing soon!
END:VALARM
END:VEVENT
END:VCALENDAR
