BEGIN:VCALENDAR
VERSION:2.0
PRODID:icalendar-ruby
CALSCALE:GREGORIAN
BEGIN:VEVENT
DTSTAMP:20260419T183858Z
UID:520c3531-3b66-4d7e-a0f0-91870fcb84e7
DTSTART:20260430T123000
DTEND:20260430T124500
CLASS:PRIVATE
DESCRIPTION:Volvo 244 Turbo on Bidders Highway closing soon!
SUMMARY:Volvo 244 Turbo
URL;VALUE=URI:https://www.biddershighway.com/en/auctions/1984-volvo-244-tur
 bo-fzx270
BEGIN:VALARM
ACTION:DISPLAY
TRIGGER:-PT15M
SUMMARY:Volvo 244 Turbo on Bidders Highway closing soon!
END:VALARM
END:VEVENT
END:VCALENDAR
