BEGIN:VCALENDAR
VERSION:2.0
PRODID:icalendar-ruby
CALSCALE:GREGORIAN
BEGIN:VEVENT
DTSTAMP:20260423T084432Z
UID:c72943a1-ed31-4706-ba74-1567c3544ec4
DTSTART:20260504T133000
DTEND:20260504T134500
CLASS:PRIVATE
DESCRIPTION:Triumph TR6 Hardtop  on Bidders Highway closing soon!
SUMMARY:Triumph TR6 Hardtop 
URL;VALUE=URI:https://www.biddershighway.com/en/auctions/1970-triumph-tr-6-
 hard-top-amt588
BEGIN:VALARM
ACTION:DISPLAY
TRIGGER:-PT15M
SUMMARY:Triumph TR6 Hardtop  on Bidders Highway closing soon!
END:VALARM
END:VEVENT
END:VCALENDAR
