BEGIN:VCALENDAR
VERSION:2.0
PRODID:icalendar-ruby
CALSCALE:GREGORIAN
BEGIN:VEVENT
DTSTAMP:20260424T085239Z
UID:737fa7c4-2add-43a0-9f39-87aad2e91b21
DTSTART:20260506T133000
DTEND:20260506T134500
CLASS:PRIVATE
DESCRIPTION:Volvo P210 Duett "Donner Carlsson" on Bidders Highway closing s
 oon!
SUMMARY:Volvo P210 Duett "Donner Carlsson"
URL;VALUE=URI:https://www.biddershighway.com/en/auctions/1968-volvo-p210-du
 ett-tba31u
BEGIN:VALARM
ACTION:DISPLAY
TRIGGER:-PT15M
SUMMARY:Volvo P210 Duett "Donner Carlsson" on Bidders Highway closing soon!
END:VALARM
END:VEVENT
END:VCALENDAR
