BEGIN:VCALENDAR
VERSION:2.0
PRODID:icalendar-ruby
CALSCALE:GREGORIAN
BEGIN:VEVENT
DTSTAMP:20260424T124717Z
UID:400f97c6-5516-4fe4-9427-1b082c8b4210
DTSTART:20260507T133000
DTEND:20260507T134500
CLASS:PRIVATE
DESCRIPTION:Volvo Amazon on Bidders Highway closing soon!
SUMMARY:Volvo Amazon
URL;VALUE=URI:https://www.biddershighway.com/en/auctions/1964-volvo-amazon-
 anj242
BEGIN:VALARM
ACTION:DISPLAY
TRIGGER:-PT15M
SUMMARY:Volvo Amazon on Bidders Highway closing soon!
END:VALARM
END:VEVENT
END:VCALENDAR
