BEGIN:VCALENDAR
VERSION:2.0
PRODID:icalendar-ruby
CALSCALE:GREGORIAN
BEGIN:VEVENT
DTSTAMP:20260423T095754Z
UID:f32f7f6c-2783-413a-ac5d-0404e07d5e33
DTSTART:20260510T123000
DTEND:20260510T124500
CLASS:PRIVATE
DESCRIPTION:Porsche 911 GT3 RS auf Bidders Highway geht zu Ende!
SUMMARY:Porsche 911 GT3 RS
URL;VALUE=URI:https://www.biddershighway.com/de/auctions/2016-porsche-911-g
 t3-rs-ycc855
BEGIN:VALARM
ACTION:DISPLAY
TRIGGER:-PT15M
SUMMARY:Porsche 911 GT3 RS auf Bidders Highway geht zu Ende!
END:VALARM
END:VEVENT
END:VCALENDAR
