BEGIN:VCALENDAR
VERSION:2.0
PRODID:icalendar-ruby
CALSCALE:GREGORIAN
BEGIN:VEVENT
DTSTAMP:20260420T045624Z
UID:03fa3ca1-8a93-4142-aa2a-e1a5895e9558
DTSTART:20260422T133000
DTEND:20260422T134500
CLASS:PRIVATE
DESCRIPTION:Jaguar XJ auf Bidders Highway geht zu Ende!
SUMMARY:Jaguar XJ
URL;VALUE=URI:https://www.biddershighway.com/de/auctions/2012-jaguar-xj-gwt
 89r-1
BEGIN:VALARM
ACTION:DISPLAY
TRIGGER:-PT15M
SUMMARY:Jaguar XJ auf Bidders Highway geht zu Ende!
END:VALARM
END:VEVENT
END:VCALENDAR
