BEGIN:VCALENDAR
VERSION:2.0
PRODID:icalendar-ruby
CALSCALE:GREGORIAN
BEGIN:VEVENT
DTSTAMP:20260423T133424Z
UID:9c34a92a-098d-408a-8d98-4c64373a0b10
DTSTART:20260504T143000
DTEND:20260504T144500
CLASS:PRIVATE
DESCRIPTION:VW Beetle 1600 Cabriolet  auf Bidders Highway geht zu Ende!
SUMMARY:VW Beetle 1600 Cabriolet 
URL;VALUE=URI:https://www.biddershighway.com/de/auctions/2007-vw-beetle-160
 0-cabriolet-nnn842
BEGIN:VALARM
ACTION:DISPLAY
TRIGGER:-PT15M
SUMMARY:VW Beetle 1600 Cabriolet  auf Bidders Highway geht zu Ende!
END:VALARM
END:VEVENT
END:VCALENDAR
