BEGIN:VCALENDAR
VERSION:2.0
PRODID:icalendar-ruby
CALSCALE:GREGORIAN
BEGIN:VEVENT
DTSTAMP:20260422T093952Z
UID:8afc1e41-f4b9-469b-b7b2-7ede034d3c09
DTSTART:20260427T143000
DTEND:20260427T144500
CLASS:PRIVATE
DESCRIPTION:Saab 9-3 Aero Cabriolet 2.8T V6 – NO RESERVE auf Bidders High
 way geht zu Ende!
SUMMARY:Saab 9-3 Aero Cabriolet 2.8T V6 – NO RESERVE
URL;VALUE=URI:https://www.biddershighway.com/de/auctions/2006-saab-9-3-aero
 -cabriolet-28t-v6-no-reserve-xks447-1
BEGIN:VALARM
ACTION:DISPLAY
TRIGGER:-PT15M
SUMMARY:Saab 9-3 Aero Cabriolet 2.8T V6 – NO RESERVE auf Bidders Highway 
 geht zu Ende!
END:VALARM
END:VEVENT
END:VCALENDAR
