BEGIN:VCALENDAR
VERSION:2.0
PRODID:icalendar-ruby
CALSCALE:GREGORIAN
BEGIN:VEVENT
DTSTAMP:20260423T095759Z
UID:ba88e4e0-04a3-4223-8562-fe9e3ee914df
DTSTART:20260503T143000
DTEND:20260503T144500
CLASS:PRIVATE
DESCRIPTION:Subaru Impreza GT auf Bidders Highway geht zu Ende!
SUMMARY:Subaru Impreza GT
URL;VALUE=URI:https://www.biddershighway.com/de/auctions/1999-subaru-imprez
 a-gt-dzu339
BEGIN:VALARM
ACTION:DISPLAY
TRIGGER:-PT15M
SUMMARY:Subaru Impreza GT auf Bidders Highway geht zu Ende!
END:VALARM
END:VEVENT
END:VCALENDAR
