BEGIN:VCALENDAR
VERSION:2.0
PRODID:icalendar-ruby
CALSCALE:GREGORIAN
BEGIN:VEVENT
DTSTAMP:20260423T133429Z
UID:b789a34b-f94a-44d7-9075-8ebea51dd83a
DTSTART:20260428T123000
DTEND:20260428T124500
CLASS:PRIVATE
DESCRIPTION:Harley-Davidson Fxst Softail auf Bidders Highway geht zu Ende!
SUMMARY:Harley-Davidson Fxst Softail
URL;VALUE=URI:https://www.biddershighway.com/de/auctions/1999-harley-davids
 on-fxst-softail-njx690
BEGIN:VALARM
ACTION:DISPLAY
TRIGGER:-PT15M
SUMMARY:Harley-Davidson Fxst Softail auf Bidders Highway geht zu Ende!
END:VALARM
END:VEVENT
END:VCALENDAR
