BEGIN:VCALENDAR
VERSION:2.0
PRODID:icalendar-ruby
CALSCALE:GREGORIAN
BEGIN:VEVENT
DTSTAMP:20260423T222237Z
UID:6051f633-0002-4dc1-935c-3fee5f859aa8
DTSTART:20260510T133000
DTEND:20260510T134500
CLASS:PRIVATE
DESCRIPTION:Porsche 911 / 930 3.3 Turbo 5-speed auf Bidders Highway geht zu
  Ende!
SUMMARY:Porsche 911 / 930 3.3 Turbo 5-speed
URL;VALUE=URI:https://www.biddershighway.com/de/auctions/1989-porsche-911-9
 30-33-turbo-5-speed-xfb907
BEGIN:VALARM
ACTION:DISPLAY
TRIGGER:-PT15M
SUMMARY:Porsche 911 / 930 3.3 Turbo 5-speed auf Bidders Highway geht zu End
 e!
END:VALARM
END:VEVENT
END:VCALENDAR
