BEGIN:VCALENDAR
VERSION:2.0
PRODID:icalendar-ruby
CALSCALE:GREGORIAN
BEGIN:VEVENT
DTSTAMP:20260424T124707Z
UID:1538801e-28d1-4c29-804e-f6acbcdc5d54
DTSTART:20260508T163000
DTEND:20260508T164500
CLASS:PRIVATE
DESCRIPTION:Jaguar XJS HE auf Bidders Highway geht zu Ende!
SUMMARY:Jaguar XJS HE
URL;VALUE=URI:https://www.biddershighway.com/de/auctions/1985-jaguar-xjs-he
 -pjg606
BEGIN:VALARM
ACTION:DISPLAY
TRIGGER:-PT15M
SUMMARY:Jaguar XJS HE auf Bidders Highway geht zu Ende!
END:VALARM
END:VEVENT
END:VCALENDAR
