BEGIN:VCALENDAR
VERSION:2.0
PRODID:icalendar-ruby
CALSCALE:GREGORIAN
BEGIN:VEVENT
DTSTAMP:20260424T085239Z
UID:5ec2b2a3-03bf-4ba3-b0aa-4c40a9ecd4fa
DTSTART:20260510T163000
DTEND:20260510T164500
CLASS:PRIVATE
DESCRIPTION:Mercedes Benz 350 SL  auf Bidders Highway geht zu Ende!
SUMMARY:Mercedes Benz 350 SL 
URL;VALUE=URI:https://www.biddershighway.com/de/auctions/1973-mercedes-benz
 -350-sl-tcm208
BEGIN:VALARM
ACTION:DISPLAY
TRIGGER:-PT15M
SUMMARY:Mercedes Benz 350 SL  auf Bidders Highway geht zu Ende!
END:VALARM
END:VEVENT
END:VCALENDAR
