BEGIN:VCALENDAR
VERSION:2.0
PRODID:icalendar-ruby
CALSCALE:GREGORIAN
BEGIN:VEVENT
DTSTAMP:20260423T045036Z
UID:42c8d34f-bd78-40f5-a1a2-651ed2d2ffd0
DTSTART:20260504T153000
DTEND:20260504T154500
CLASS:PRIVATE
DESCRIPTION:Jaguar E-Type 4.2 Coupe auf Bidders Highway geht zu Ende!
SUMMARY:Jaguar E-Type 4.2 Coupe
URL;VALUE=URI:https://www.biddershighway.com/de/auctions/1969-jaguar-e-type
 -42-coupe-nka736
BEGIN:VALARM
ACTION:DISPLAY
TRIGGER:-PT15M
SUMMARY:Jaguar E-Type 4.2 Coupe auf Bidders Highway geht zu Ende!
END:VALARM
END:VEVENT
END:VCALENDAR
