BEGIN:VCALENDAR
VERSION:2.0
PRODID:icalendar-ruby
CALSCALE:GREGORIAN
BEGIN:VEVENT
DTSTAMP:20260423T133426Z
UID:52bb380d-36dd-455c-9bca-e529b7dd8b75
DTSTART:20260505T143000
DTEND:20260505T144500
CLASS:PRIVATE
DESCRIPTION:Puch MV 50 KF Florida auf Bidders Highway geht zu Ende!
SUMMARY:Puch MV 50 KF Florida
URL;VALUE=URI:https://www.biddershighway.com/de/auctions/1965-puch-mv-50-kf
 -florida-1
BEGIN:VALARM
ACTION:DISPLAY
TRIGGER:-PT15M
SUMMARY:Puch MV 50 KF Florida auf Bidders Highway geht zu Ende!
END:VALARM
END:VEVENT
END:VCALENDAR
