BEGIN:VCALENDAR
VERSION:2.0
PRODID:icalendar-ruby
CALSCALE:GREGORIAN
BEGIN:VEVENT
DTSTAMP:20260423T095749Z
UID:87a3c4b5-5409-4ecc-8e59-baddd380348b
DTSTART:20260505T123000
DTEND:20260505T124500
CLASS:PRIVATE
DESCRIPTION:Oldsmobile Cutlass Convertible auf Bidders Highway geht zu Ende
 !
SUMMARY:Oldsmobile Cutlass Convertible
URL;VALUE=URI:https://www.biddershighway.com/de/auctions/1964-oldsmobile-cu
 tlass-convertible-sfd097-1
BEGIN:VALARM
ACTION:DISPLAY
TRIGGER:-PT15M
SUMMARY:Oldsmobile Cutlass Convertible auf Bidders Highway geht zu Ende!
END:VALARM
END:VEVENT
END:VCALENDAR
