BEGIN:VCALENDAR
VERSION:2.0
PRODID:icalendar-ruby
CALSCALE:GREGORIAN
BEGIN:VEVENT
DTSTAMP:20260424T100207Z
UID:892df694-fb98-4d12-96ff-6dd2a15dc7f1
DTSTART:20260504T123000
DTEND:20260504T124500
CLASS:PRIVATE
DESCRIPTION:Mercury Montclair Sport Sedan auf Bidders Highway geht zu Ende!
SUMMARY:Mercury Montclair Sport Sedan
URL;VALUE=URI:https://www.biddershighway.com/de/auctions/1956-mercury-montc
 lair-sport-sedan-btx13j-1
BEGIN:VALARM
ACTION:DISPLAY
TRIGGER:-PT15M
SUMMARY:Mercury Montclair Sport Sedan auf Bidders Highway geht zu Ende!
END:VALARM
END:VEVENT
END:VCALENDAR
