BEGIN:VCALENDAR
VERSION:2.0
PRODID:icalendar-ruby
CALSCALE:GREGORIAN
BEGIN:VEVENT
DTSTAMP:20260423T141717Z
UID:b180edf8-ee8f-4a1c-bc49-9fa69c6e685b
DTSTART:20260503T123000
DTEND:20260503T124500
CLASS:PRIVATE
DESCRIPTION:Plymouth Belvedere 2 door HT Coupe auf Bidders Highway geht zu 
 Ende!
SUMMARY:Plymouth Belvedere 2 door HT Coupe
URL;VALUE=URI:https://www.biddershighway.com/de/auctions/1953-plymouth-belv
 edere-2-door-ht-coupe-mgo933-1
BEGIN:VALARM
ACTION:DISPLAY
TRIGGER:-PT15M
SUMMARY:Plymouth Belvedere 2 door HT Coupe auf Bidders Highway geht zu Ende
 !
END:VALARM
END:VEVENT
END:VCALENDAR
