BEGIN:VCALENDAR
VERSION:2.0
PRODID:icalendar-ruby
CALSCALE:GREGORIAN
BEGIN:VEVENT
DTSTAMP:20260423T084414Z
UID:08cb2477-f269-4c73-a2f4-e5810440f3d2
DTSTART:20260506T123000
DTEND:20260506T124500
CLASS:PRIVATE
DESCRIPTION:Hudson Modell 40 Traveller Brougham  auf Bidders Highway geht z
 u Ende!
SUMMARY:Hudson Modell 40 Traveller Brougham 
URL;VALUE=URI:https://www.biddershighway.com/de/auctions/1940-hudson-modell
 -40-traveller-brougham-dng239-1
BEGIN:VALARM
ACTION:DISPLAY
TRIGGER:-PT15M
SUMMARY:Hudson Modell 40 Traveller Brougham  auf Bidders Highway geht zu En
 de!
END:VALARM
END:VEVENT
END:VCALENDAR
